BEGIN:VCALENDAR
VERSION:2.0
PRODID:-//Country Cabinets - ECPv6.15.20//NONSGML v1.0//EN
CALSCALE:GREGORIAN
METHOD:PUBLISH
X-WR-CALNAME:Country Cabinets
X-ORIGINAL-URL:https://countrycabinets.com
X-WR-CALDESC:Events for Country Cabinets
REFRESH-INTERVAL;VALUE=DURATION:PT1H
X-Robots-Tag:noindex
X-PUBLISHED-TTL:PT1H
BEGIN:VTIMEZONE
TZID:UTC
BEGIN:STANDARD
TZOFFSETFROM:+0000
TZOFFSETTO:+0000
TZNAME:UTC
DTSTART:20240101T000000
END:STANDARD
END:VTIMEZONE
BEGIN:VEVENT
DTSTART;TZID=UTC:20250412T090000
DTEND;TZID=UTC:20250412T150000
DTSTAMP:20260422T224318
CREATED:20250228T222141Z
LAST-MODIFIED:20250228T222141Z
UID:4304-1744448400-1744470000@countrycabinets.com
SUMMARY:Apple Valley Home & Garden Expo
DESCRIPTION:FREE\, FAMILY-FRIENDLY HOME & GARDEN EXPO!\nKids will love:Fire Trucks\, Free Face Painting\, Grilled Food and Home Depot Kids Crafts!\nJoin us at the 24th ANNUAL Apple Valley Home & Garden Expo! Visit face-to-face with local vendors who are ready to answer any questions you have and help with all your home improvement dreams.\nAs always\, this event is FREE to attend and all ages are welcome!
URL:https://countrycabinets.com/event/apple-valley-home-garden-expo/
LOCATION:Eastview High School\, 6200 140th St W\, Apple Valley\, MN\, 55124\, United States
CATEGORIES:Business Events,Community Events,Home Shows
ATTACH;FMTTYPE=image/jpeg:https://countrycabinets.com/wp-content/uploads/2025/02/Image-1.jpeg
END:VEVENT
BEGIN:VEVENT
DTSTART;TZID=UTC:20250405T100000
DTEND;TZID=UTC:20250405T160000
DTSTAMP:20260422T224318
CREATED:20250228T225157Z
LAST-MODIFIED:20250228T225157Z
UID:4316-1743847200-1743868800@countrycabinets.com
SUMMARY:2025 Eagan Home Show
DESCRIPTION:SEE UP TO 150 HOME PROS ALL UNDER ONE ROOF!\nFrom remodeling\, decks\, and windows to landscaping\, bathrooms\, driveways\, and everything in-between\, you’ll find what you’re looking for at the Eagan Home Show!\nThe Eagan Home Show is your #1 stop to find resources\, savings\, and professionals to get the job done right! Meet and learn from Twin Cities’ best home pros in a casual\, comfortable\, no-pressure environment.\nSee up to 150 home improvement professionals who can help you with any home improvement project – big or small – inside your home or out\, including: landscaping\, gardening\, patios\, fencing\, decks\, heating and air\, solar\, insulation\, remodeling\, new construction\, plumbing\, kitchens\, baths\, closets\, home furnishings\, appliances\, lighting\, roofing\, painting\, gutters\, windows\, doors\, siding\, tile\, stone\, granite\, and so much and more!\nFeaturing tons of free parking PLUS giveaways and show-exclusive project savings all day!
URL:https://countrycabinets.com/event/2025-eagan-home-show/
LOCATION:Eagan Community Center\, 1501 Central Pkwy\, Eagan\, MN\, 55121\, United States
ATTACH;FMTTYPE=image/jpeg:https://countrycabinets.com/wp-content/uploads/2025/02/Image-4.jpeg
ORGANIZER;CN="Minnesota Home Shows":MAILTO:Contact@MinnesotaHomeShows.com
END:VEVENT
BEGIN:VEVENT
DTSTART;TZID=UTC:20250405T093000
DTEND;TZID=UTC:20250405T143000
DTSTAMP:20260422T224318
CREATED:20250228T223758Z
LAST-MODIFIED:20250228T224237Z
UID:4309-1743845400-1743863400@countrycabinets.com
SUMMARY:Rosemount Community Expo
DESCRIPTION:Discover Rosemount! Take a tour around Rosemount and get to know your community. Connect with local businesses\, service providers\, and neighbors at this free and fun community event.\nSaturday\, April 59:30 a.m. to 2:30 p.m.Rosemount High School\n FREE entry & parking FREE coffee and espresso drinks by Maleku Coffee Local entertainment – Live music\, local performances Grab lunch with local food trucks FREE fun activities for the entire family Over 50 area businesses and organizations to shop and connect with
URL:https://countrycabinets.com/event/rosemount-community-expo/
LOCATION:Rosemount High School\, 3335 142nd St W\, Rosemount\, MN\, 55068\, United States
CATEGORIES:Business Events,Community Events,Home Shows
ATTACH;FMTTYPE=image/jpeg:https://countrycabinets.com/wp-content/uploads/2025/02/rosemount-e1740782268796.jpg
END:VEVENT
BEGIN:VEVENT
DTSTART;TZID=UTC:20250329T090000
DTEND;TZID=UTC:20250329T150000
DTSTAMP:20260422T224318
CREATED:20250226T203556Z
LAST-MODIFIED:20250228T215331Z
UID:4265-1743238800-1743260400@countrycabinets.com
SUMMARY:Northfield Community Market Fair
DESCRIPTION:Browse dozens of vendor from landscaping to remodeling\, from sustainability to catering services\, from insurance to real estate. There is so much to look forward to as you read below. Help keep Northfield in business. \n\n100+ Vendors\nFood Trucks\nOver $500 in Prizes & Drawings\nSomething for the whole family!
URL:https://countrycabinets.com/event/northfield-community-market-fair/
LOCATION:Dundas Dome\, 901 Cannon Road\, Dundas\, 55019\, United States
CATEGORIES:Business Events,Community Events,Home Shows
ATTACH;FMTTYPE=image/jpeg:https://countrycabinets.com/wp-content/uploads/2025/02/Northfield-Community-Market-Fair.jpg
END:VEVENT
BEGIN:VEVENT
DTSTART;TZID=UTC:20250322T090000
DTEND;TZID=UTC:20250322T150000
DTSTAMP:20260422T224318
CREATED:20250226T203555Z
LAST-MODIFIED:20250226T223800Z
UID:4264-1742634000-1742655600@countrycabinets.com
SUMMARY:Lakeville Home\, Landscape & Consumer Expo
DESCRIPTION:2025 Lakeville Chamber Home\, Landscape and Community Expo at Lakeville North High School featuring over 120 local vendors including home improvement\, landscaping\, building\, remodeling\, windows\, siding\, flooring\, painting\, medical\, retail and more!
URL:https://countrycabinets.com/event/lakeville-home-landscape-consumer-expo/
LOCATION:Lakeville North High School\, 19600 Ipava Avenue \, Lakeville\, MN\, 55044\, United States
CATEGORIES:Business Events,Community Events,Home Shows
ATTACH;FMTTYPE=image/jpeg:https://countrycabinets.com/wp-content/uploads/2025/02/Lakeville-Chamber-Home-Show.jpg
END:VEVENT
BEGIN:VEVENT
DTSTART;TZID=UTC:20250308T090000
DTEND;TZID=UTC:20250308T150000
DTSTAMP:20260422T224318
CREATED:20250226T203555Z
LAST-MODIFIED:20250226T224315Z
UID:4263-1741424400-1741446000@countrycabinets.com
SUMMARY:Eden Prairie Everything Spring Expo
DESCRIPTION:Thinking Spring? Know that you’ll have the best looking lawn + home in the neighborhood by checking out and chatting with the businesses and organizations at the Everything Spring Expo.  \nExperts offer advice\, insight\, and ideas for all your renovation projects\, big and small. No more “Honey-Do” list\, connect with the experts who can do it right for you (the first time!). From home improvement projects\, to your wildest landscaping and gardening dreams– the Expo has the person who can help YOU!  \nFREE to attend + FREE Parking
URL:https://countrycabinets.com/event/eden-prairie-everything-spring-expo/
LOCATION:Grace Church\, 9301 Eden Prairie Road\, Eden Prairie\, 55347\, United States
CATEGORIES:Business Events,Community Events,Home Shows
ATTACH;FMTTYPE=image/jpeg:https://countrycabinets.com/wp-content/uploads/2025/02/2025-Spring-Expo-EP-Chamber.jpg
END:VEVENT
BEGIN:VEVENT
DTSTART;TZID=UTC:20250308T090000
DTEND;TZID=UTC:20250308T130000
DTSTAMP:20260422T224318
CREATED:20250228T220510Z
LAST-MODIFIED:20250228T222231Z
UID:4298-1741424400-1741438800@countrycabinets.com
SUMMARY:Farmington Business Expo
DESCRIPTION:What to Expect:\nPrizes\, Giveaways\, and Activities– First 500 Attendees receive a gift bag with gift cards found in some!– Sports Activities with gift cards and other prizes!– Business Booth Bingo with 25 Free food vouchers for the first 25 completed!– Free and discounted marketing for your own events!\nFun activities for kids!\nFree and purchasable food and drinks!.
URL:https://countrycabinets.com/event/farmington-business-expo/
LOCATION:Levi P. Dodge Middle School\, 4200 208th St W\, Farminton\, MN\, 55024\, United States
CATEGORIES:Business Events,Community Events,Home Shows
ATTACH;FMTTYPE=image/jpeg:https://countrycabinets.com/wp-content/uploads/2025/02/Image.jpeg
END:VEVENT
BEGIN:VEVENT
DTSTART;TZID=UTC:20250301T090000
DTEND;TZID=UTC:20250301T150000
DTSTAMP:20260422T224318
CREATED:20250228T225657Z
LAST-MODIFIED:20250228T225657Z
UID:4321-1740819600-1740841200@countrycabinets.com
SUMMARY:Touch - A - Truck
DESCRIPTION:Rev up your engines and get ready for an unforgettable adventure at the ENM Chamber’s Touch-A-Truck!\nBring the kids over where they’ll have the chance to touch\, climb in\, and explore an amazing lineup of vehicles. From shiny police cars and roaring fire trucks to powerful diggers and a real race car\, this hands-on event will leave little ones wide-eyed with excitement. Best of all\, it’s completely FREE!\nPlus\, it’s happening alongside the South Metro Spring Living Showcase\, Elko New Market’s very own home and garden show. Don’t miss this opportunity to give your kids a day full of wheels\, sirens\, and smiles—they’ll be talking about it all year!
URL:https://countrycabinets.com/event/touch-a-truck/
LOCATION:Eagle View Elementary School\, 25600 Nevada Ave\, Elko New Market\, 55020\, United States
ATTACH;FMTTYPE=image/jpeg:https://countrycabinets.com/wp-content/uploads/2025/02/Image-5.jpeg
END:VEVENT
BEGIN:VEVENT
DTSTART;TZID=UTC:20250301T090000
DTEND;TZID=UTC:20250301T150000
DTSTAMP:20260422T224318
CREATED:20250226T203555Z
LAST-MODIFIED:20250228T224359Z
UID:4262-1740819600-1740841200@countrycabinets.com
SUMMARY:Elko New Market South Metro Spring Living Showcase
DESCRIPTION:Join us for the First Annual South Metro Spring Living Showcase on Saturday\, March 1st\, 2025! \n Where: Eagle View Elementary School\, Elko New Market Time: 9:00 AM – 3:00 PM\nExplore all things home\, garden\, and lifestyle with 40+ amazing vendors\, including: Builders Landscapers Handymen…and more!\nWhether you’re planning your dream home\, updating your backyard\, or tackling a DIY project\, this is the place to find inspiration and local experts who can help bring your vision to life.\n FREE Admission! Bring your family and friends for a day full of ideas\, connections\, and fun!
URL:https://countrycabinets.com/event/elko-new-market-south-metro-spring-living-showcase/
LOCATION:MN
CATEGORIES:Business Events,Community Events,Home Shows
ATTACH;FMTTYPE=image/jpeg:https://countrycabinets.com/wp-content/uploads/2025/02/South-Metro-Spring-Living-Showcase.jpg
END:VEVENT
END:VCALENDAR